BEGIN:VCALENDAR
VERSION:2.0
PRODID:-//hacksw/handcal//NONSGML v1.0//EN
BEGIN:VEVENT
UID:1aa4b7c913344bdd2f073be4f943d763
DTSTAMP:20260424T170213Z

DTSTART:20191201T140000
DTEND:20191201T140000
SUMMARY:Immenröder Advent - Adventsmarkt 2019
DESCRIPTION:Der beliebte Adventsmarkt rund um das Gemeindehaus und die Kirche beginnt bereits um 14 Uhr in gemütlicher und besinnlicher, vorweihnachtlicher Atmosphäre.

Ab 16 Uhr spielen die Holy Foxxes in der Kirche. Der Eintritt ist frei und alle die Lust auf handgemachte Musik haben, sind herzlich eingeladen. 

Quelle: Facebook Veranstaltungen
LOCATION:Immenrode, Goslar, Landkreis Goslar, Niedersachsen, Deutschland
END:VEVENT

END:VCALENDAR
