BEGIN:VCALENDAR
VERSION:2.0
PRODID:-//hacksw/handcal//NONSGML v1.0//EN
BEGIN:VEVENT
UID:5a6d93892d0e87a3b08147995cd5a0ba
DTSTAMP:20260424T165854Z

DTSTART:20191130T210000
DTEND:20191201T000000
SUMMARY:Live Musik
DESCRIPTION:Live Musik

Celtic-Inn Goslar
Hildesheimerstr.53, 38640 Goslar
LOCATION:Celtic Inn, 53, Hildesheimer Straße, Altstadt, Goslar, Landkreis Goslar, Niedersachsen, 38640, Deutschland
END:VEVENT

END:VCALENDAR
