BEGIN:VCALENDAR
VERSION:2.0
PRODID:-//hacksw/handcal//NONSGML v1.0//EN
BEGIN:VEVENT
UID:7a5bc5526df0365e67e1929721b6685d
DTSTAMP:20260424T172642Z

DTSTART:20191207T170000
DTEND:20191207T180000
SUMMARY:Weihnachtsmarkt Wöltingerode - Lars Begerow
DESCRIPTION:Musik auf dem Weihnachtsmarkt. Aus organisatorischen Gründen spiele ich nun am 07.12. statt 08.12.
LOCATION:Klosterhotel Wöltingerode, 3, Wöltingerode, Vienenburg, Goslar, Landkreis Goslar, Niedersachsen, 38690, Deutschland
END:VEVENT

END:VCALENDAR
