BEGIN:VCALENDAR
VERSION:2.0
PRODID:-//hacksw/handcal//NONSGML v1.0//EN
BEGIN:VEVENT
UID:10123d03f2e71d140b5ddc209473c71b
DTSTAMP:20260424T134012Z

DTSTART:20191213T160000
DTEND:20191213T200000
SUMMARY:5. Wipfelweihnacht
DESCRIPTION:5. Wipfelweihnacht am 3. Adventswochenende 2019

Die 5. Wipfelweihnacht ist in der Vorbereitung. Nachdem von 2015 - 2018 die 1. bis 4. Auflage stattgefunden haben, widmet sich das Team aktuell der Planung der vierten Wipfelweihnacht im Jahr 2019. 

Bewährt hat sich der Termin am 3. Adventswochenende. So wird der Pfad auch in 2019 am 13. und 14. Dezember 2019 seine Pforten in der Zeit von 16.00 bis 20.00 Uhr öffnen und mit weihnachtlichen Illuminationen sowie einigen Ständen auf dem Pfad für Weihnachtsstimmung und ein wenig Besinnlichkeit sorgen. 

Neben dem Pfadkünstler Alexander Frese, der die Holzfiguren, wie die "Früchte des Waldes" geschnitzt hat, werden auch verschiedene musikalische Künstler auf dem Pfad erwartet. Weitere Stände werden von Till Plate mit seinen Holzbrettchen bestückt. 

Der Eintritt zur Veranstaltung kostet 6€.

Quelle: Facebook Veranstaltungen
LOCATION:Baumwipfelpfad, Molkenhaus, Bad Harzburg, Landkreis Goslar, Niedersachsen, 38667, Deutschland
END:VEVENT

END:VCALENDAR
