BEGIN:VCALENDAR
VERSION:2.0
PRODID:-//hacksw/handcal//NONSGML v1.0//EN
BEGIN:VEVENT
UID:815fe33c42b932e51a088fc17d47c576
DTSTAMP:20260424T120800Z

DTSTART:20200117T190000
DTEND:20200117T210000
SUMMARY:Sagenhafter Livegenuss mit Herrengedeck
DESCRIPTION:Nun wird es schon fast zu Tradition, dass Sebastian "Igel" aka Herrengedeck den Auftakt im neuen Jahr beim Sagenhaften Livegenuss gibt.

Wir freuen uns mega. 

>> HERRENGEDECK 

dabei handelt es sich in diesem Fall nicht um die beliebte Getränkekombination aus Bier und Korn, sondern um den Text- und Musikschreiberling Sebastian aus Braunschweig, mit Wurzeln in der südlichen Heide. 

Eine tanzbare und mit-sing-motivierende Mischung aus, ja ihr habt es erraten, Kneipenliedern und romantischen Songs, die genau richtig sind um das ein oder andere Bier zu trinken.

In den Songs von Herrengedeck werden allerdings nicht nur alkoholgeprägte Themengebiete behandelt. Auch die Gesellschaft, die Sehnsucht nach Freiheit oder der guten alte Herzschmerz steht gerne mal auf der musikalischen Agenda. Serviert wird das Ganze mit einer Prise Seemannsgarn.

Viel Spaß und Prost!


Im Sagenhaft gibt es während des Konzerts wie immer eine veränderte Karte (keine Burger), Reservierungen werden empfohlen.  

Quelle: Facebook Veranstaltungen
LOCATION:Sagenhaft, 2b, Nordhäuser Straße, Molkenhaus, Bad Harzburg, Landkreis Goslar, Niedersachsen, 38667, Deutschland
END:VEVENT

END:VCALENDAR
