BEGIN:VCALENDAR
VERSION:2.0
PRODID:-//hacksw/handcal//NONSGML v1.0//EN
BEGIN:VEVENT
UID:5c1dadceb12d97018f32b76c1a53ff8d
DTSTAMP:20260424T102745Z

DTSTART:20191221T180000
DTEND:20191221T180000
SUMMARY:Ein ganzes Jahr O‘s
DESCRIPTION:Wir feiern einjähriges Bestehen! ? Ihr habt richtig gelesen! Uns gibt es schon ein Jahr! ? Wie die Zeit vergeht.. Darauf wollen wir natürlich mit unseren Gästen ordentlich anstoßen. Und zwar mit 50 Liter Freibier ? Ja richtig! FREIBIER! ? Kommt vorbei!
LOCATION:Rudolf-Huch-Straße, Molkenhaus, Bad Harzburg, Landkreis Goslar, Niedersachsen, 38667, Deutschland
END:VEVENT

END:VCALENDAR
