BEGIN:VCALENDAR
VERSION:2.0
PRODID:-//hacksw/handcal//NONSGML v1.0//EN
BEGIN:VEVENT
UID:c047093a3c80a948434d57c6f32b8776
DTSTAMP:20260424T182736Z

DTSTART:20200208T190000
DTEND:20200208T190000
SUMMARY:Winterbreeze XIII
DESCRIPTION:Zum 13. mal heizen wir Euch mit dem Winterbreeze richtig ein.

Der Abend wird von Alien Instant Noodle Official aus Hildesheim eröffnet. Die Jungs haben unsere Delegation beim Landesfinale von local heroes Niedersachsen dermaßen mitgerissen, dass wir Sie vom Fleck weg für Euch verpflichtet haben. Sie selbst ordnen sich im Nu Metal.

Als zweite Band servieren uns Bucketlist aus Braunschweig Heavy hitting Rock and Metal. Die 5 Jungs stellen demnächst Ihren neuen Silberling vor, aus dem Sie uns dann natürlich auch vorspeilen werden.

Als letzte auf der Bühne haben wir FALLING BREAKDOWN zu Gast, die leider bei der Jungen Bühne krankheitsbedingt ausgefallen sind. Freut Euch auf Nu Metal aus Braunschweig/Wolfenbüttel.

Wie immer stehen ausreichend kühle Getränke und bei richtig kaltem Wetter auch Glühwein in ausreichender Menge bereit ;)

Dieser Termin ist ein MUSS für alle Freunde der gepflegt-harten Tanzmusik

Quelle: Facebook Veranstaltungen
LOCATION:Jugendzentrum B6, 1c, Heinrich-Pieper-Straße, Georgenberg, Goslar, Landkreis Goslar, Niedersachsen, 38640, Deutschland
END:VEVENT

END:VCALENDAR
