BEGIN:VCALENDAR
VERSION:2.0
PRODID:-//hacksw/handcal//NONSGML v1.0//EN
BEGIN:VEVENT
UID:173f8a690c7d5ebb1d897fc2a237cb5c
DTSTAMP:20260424T152802Z

DTSTART:20200228T180000
DTEND:20200228T220000
SUMMARY:Akustikgenuss - Casino Rammelsberg - The Holy Foxxes
DESCRIPTION:Ein Abend der Sinne. 
Sehen und hören: Erleben Sie Bands aus der Region auf Akustiktour 
Riechen und schmecken: Genießen Sie dazu ein 3-Gang-Menü 
Einmal im Quartal 
25,00 € pro Person 
Datum: 28.2.2020 – The Holy Foxxes 

Nur ein vorheriger Kartenkauf gilt als Reservierung!!

Quelle: Facebook Veranstaltungen
LOCATION:Weltkulturerbe Rammelsberg Museum & Besucherbergwerk, 19, Bergtal, Altstadt, Goslar, Landkreis Goslar, Niedersachsen, 38644, Deutschland
END:VEVENT

END:VCALENDAR
