BEGIN:VCALENDAR
VERSION:2.0
PRODID:-//hacksw/handcal//NONSGML v1.0//EN
BEGIN:VEVENT
UID:e99c9aaa0cd4a436dcb041d3ec45f9d5
DTSTAMP:20260424T084640Z

DTSTART:20200314T223000
DTEND:20200315T050000
SUMMARY:Maggie's Farm | Live Band
DESCRIPTION:➡SAMSTAG 14.03.20 ⬅

?Live Band?
MAGGIE’S FARM
(Rage against the machine Coverband)

Support by:
VOLBEAST

Mehr Infos folgen…

══ ? ERLEBNISBEREICHE ? ══

?? DEJAVU
?? DISCOCLUB
?? RITTERSAAL

══ ? VIP TISCH RESERVIERUNG ? ══

Reservierungen auf unserer Homepage
http://www.nachtschicht-goslar.de/#!reservierung/cxgi

══ ? EINLASS ? ══

Einlass: ab 22:30 Uhr
Mindestalter: 18 Jahre

Quelle: Facebook
LOCATION:Nachtschicht, 1b, Carl-Zeiß-Straße, Baßgeige, Goslar, Landkreis Goslar, Niedersachsen, 38644, Deutschland
END:VEVENT

END:VCALENDAR
