BEGIN:VCALENDAR
VERSION:2.0
PRODID:-//hacksw/handcal//NONSGML v1.0//EN
BEGIN:VEVENT
UID:dd579636d7558ae3e35bbd455663c066
DTSTAMP:20260424T152218Z

DTSTART:20200228T190000
DTEND:20200228T190000
SUMMARY:Offene Jam-Session Feb. 2020
DESCRIPTION:Am 28.2. ab 19:00Uhr findet das zweite Mal unsere MUSIKER IM HARZ Jam-Session statt.

Die Veranstaltung steht unter dem Motto "Musiker sucht Musiker". Im Vordergrund
steht also nicht die Performance vor eurem Publikum (Zuhörer sind selbstverständlich trotzdem herzlich willkommen)
sondern der musikalische Austausch, spontane & improvisierte Momente und gute Kontakte.

Als Räumlichkeit dient uns diesmal O's Altes Backhaus in der Rudolf-Huch-Straße 4 in Bad Harzburg.

Wir freuen uns darauf euch kennenzulernen!

Euer Team von Musiker im Harz
LOCATION:4, Rudolf-Huch-Straße, Schulenrode, Bad Harzburg, Landkreis Goslar, Niedersachsen, 38667, Deutschland
END:VEVENT

END:VCALENDAR
