BEGIN:VCALENDAR
VERSION:2.0
PRODID:-//hacksw/handcal//NONSGML v1.0//EN
BEGIN:VEVENT
UID:77fefbd7c1cb0bd1947f0c27ce54bfa5
DTSTAMP:20260424T083111Z

DTSTART:20200502T183000
DTEND:20200503T010000
SUMMARY:5. Göttingeroder Metal-Feast
DESCRIPTION:Noch rund sechs Monate, dann ist es schon wieder soweit:

Zappenduster laden ein zum jährlichen Haare-Schütteln im schönen DGH Göttingerode! Dieses Mal am verlängerten Wochenende direkt zum Start in den Mai. Ihr könnt also am 30.4. richtig schön Walpurgis bei uns feiern, am 01.05. gehörige Regeneration erfahren um dann am 02.05. gleich wieder Vollgas mit der Matte zu geben! Und wenn gewünscht auch noch alles in entspannter Camping-Atmosphäre sozusagen "direkt nebenan" - großartig, oder?

Zum Haare-Schütteln haben wir für 2020 natürlich wieder zwei weitere Bands eingeladen - STORMWARRIOR (Official) und Deceiver sind mit an Bord.

Ansonsten gilt das Übliche bei unseren Veranstaltung: für leibliches Wohl ist in ausreichender Form gesorgt. Bier, Non-Alks, Cocktails und Essen werden im Angebot sein. Was genau steht noch nicht fest, aber es wird kein Schädel-Bräu!

Gerne teilen und Freunde einladen. Auf das die Hütte voll wird!

Vorverkauf unter:

https://www.eventim-light.com/de/a/5ca4c171310cfd000148c155/e/5dff81666bc2f6000199e8d2?lang=de

Quelle: Facebook
LOCATION:Am Markt, Schachtsiedlung, Göttingerode, Bad Harzburg, Landkreis Goslar, Niedersachsen, 38667, Deutschland
END:VEVENT

END:VCALENDAR
