BEGIN:VCALENDAR
VERSION:2.0
PRODID:-//hacksw/handcal//NONSGML v1.0//EN
BEGIN:VEVENT
UID:51d8deef7d63b2dd5624dfbbd331406c
DTSTAMP:20260424T102051Z

DTSTART:20200508T200000
DTEND:20200508T233000
SUMMARY:Goslarer Tribute Night 2020
DESCRIPTION:Im Mai 2020 schlägt die Goslarer Tribute Night erneut in unserem schönen Innenhof die Zelte – oder besser gesagt: die große Bühne – auf.

Unter dem Motto „Classic Rock in klassischem Ambiente“ erwartet Sie auch in diesem Jahr ein durchtanzter Abend voller mitreißender Momente. Freuen Sie sich auf Musik von den dIRE sTRINGS-a tribute to Dire Straits und der sagenhaften Police- und Sting-Tributeband Regatta De Blanc, auf leckere Drinks aus der Klosterbrennerei Wöltingerode sowie kulinarische Genussmomente. 

Dieses Open-Air lässt keine Wünsche offen!
Einlass ab 19 Uhr 
VVK: 20,00 Euro
AK: 25,00 Euro

Quelle: Facebook
LOCATION:Klosterhotel Wöltingerode, 3, Wöltingerode, Steinfeld (Vienenburg), Vienenburg, Goslar, Landkreis Goslar, Niedersachsen, 38690, Deutschland
END:VEVENT

END:VCALENDAR
