BEGIN:VCALENDAR
VERSION:2.0
PRODID:-//hacksw/handcal//NONSGML v1.0//EN
BEGIN:VEVENT
UID:b12a81b3bacfac47dc59b718811a7b94
DTSTAMP:20260424T114725Z

DTSTART:20200321T220000
DTEND:20200322T010000
SUMMARY:Live Music
DESCRIPTION:Live Music

Quelle: Facebook
LOCATION:Celtic Inn, 53, Hildesheimer Straße, Altstadt, Goslar, Landkreis Goslar, Niedersachsen, 38640, Deutschland
END:VEVENT

END:VCALENDAR
