BEGIN:VCALENDAR
VERSION:2.0
PRODID:-//hacksw/handcal//NONSGML v1.0//EN
BEGIN:VEVENT
UID:945a4d788181aad52c03f9eed9a7646d
DTSTAMP:20260424T134255Z

DTSTART:20211029T190000
DTEND:20211029T190000
SUMMARY:Halloween Jamsession (2G)
DESCRIPTION:Am Freitag(29.10) ab 19:00 findet unsere Halloween Jam-Session statt.

Die Veranstaltung steht wie immer unter dem Motto "Musiker sucht Musiker". Im Vordergrund
steht also nicht die Performance vor eurem Publikum (Zuhörer sind selbstverständlich trotzdem herzlich willkommen)
sondern der musikalische Austausch, spontane & improvisierte Momente und gute Kontakte.

- - -Halloween-Dresscode - - -
Kostüme und Musik passen einfach wunderbar zusammen - natürlich optional

- - - Corona Info - - -
Aktuelle Corona-Auflagen erlauben uns Veranstaltungen ohne großartige Beschränkungen durchzuführen, die Voraussetzung dafür ist allerdings das Einhalten der 2G Regel.

- - -Veranstaltungsort - - -
Als Räumlichkeit dienen uns 100m² ausgebauter Partyraum auf dem Bauernhof Willeke in Harlingerode in der Immenröder Straße 8

- - - Equipment vor Ort - - -
Drumset, PA, Micros, Billard, Kicker, 100m² Platz. In Kooperation mit Harzwerk e.V. und dem Bauernhof Willeke. 



Wir bedanken uns für Euer Verständnis und freuen uns riesig auf euch
Euer Team von Musiker im Harz
LOCATION:8, Immenröder Straße, Harlingerode, Bad Harzburg, Landkreis Goslar, Niedersachsen, 38667, Deutschland
END:VEVENT

END:VCALENDAR
