BEGIN:VCALENDAR
VERSION:2.0
PRODID:-//hacksw/handcal//NONSGML v1.0//EN
BEGIN:VEVENT
UID:7a4e51aa467a9e6bb599b49496b0df2b
DTSTAMP:20260424T170712Z

DTSTART:20191206T190000
DTEND:20191206T210000
SUMMARY:Sagenhafter Livegenuss mit Stiffler's Dad
DESCRIPTION:Wir freuen uns mega unsere Freunde von Stiffler's Dad am Nikolaustag, den 06. Dezember 2019 im Sagenhaft zum zweiten Konzert in der diesjährigen Reihe des Sagenhaften Livegenuss zu begrüßen! 

Die Karte ist wie immer verändert - freut euch auf tolle Kreationen und vor allem ordentlich was auf die Ohren von 
Steffen, Joshua, Alex und Gero.

Der Eintritt ist frei. Eine Reservierung wird empfohlen.  

Quelle: Facebook Veranstaltungen
LOCATION:Sagenhaft, 2b, Nordhäuser Straße, Molkenhaus, Bad Harzburg, Landkreis Goslar, Niedersachsen, 38667, Deutschland
END:VEVENT

END:VCALENDAR
