BEGIN:VCALENDAR
VERSION:2.0
PRODID:-//hacksw/handcal//NONSGML v1.0//EN
BEGIN:VEVENT
UID:e6729af421566ba42448ed511cd736e7
DTSTAMP:20260424T150226Z

DTSTART:20191211T180000
DTEND:20191211T180000
SUMMARY:Bühne frei: "Open Stage"
DESCRIPTION:Unter den Schlagwörtern „#meingoslar #meinebühne“ bietet die offene Bühne eine Plattform für Songs, Poetry, Comedy, Tanz und vieles mehr. Jeder, der sich ausprobieren will und mitmachen möchte, bekommt 10 Minuten Auftrittszeit. Für die technische Grundausstattung und eine Moderation ist gesorgt. Instrumente bitte selber mitbringen.

Kurzentschlossene Künstler und natürlich auch Zuschauer sind herzlich willkommen. Schaut vorbei und genießt den Abend oder werdet Teil der Show.

Die nächste Open-Stage wird ein Weihnachtsspecial sein.
Am Mittwoch, 11. Dezember um 18 Uhr auf der Weihnachtsmarktfläche im Brunnengarten.

Gänsehaut-Momente: Offene Bühne begeisterte Zuschauer

Was geht an dem Abend:

Singer / Songwriter
Poetry
Comedy
Tanz
... überrascht uns!

Unsere technische Grundausstattung beinhaltet:

Mikrofone
Lautsprecher
Mischpult

Quelle: https://www.goslar.de/kultur-freizeit/veranstaltungen/open-stage
LOCATION:Brunnengarten, Worthsatenwinkel, Altstadt, Goslar, Landkreis Goslar, Niedersachsen, 38640, Deutschland
END:VEVENT

END:VCALENDAR
