BEGIN:VCALENDAR
VERSION:2.0
PRODID:-//hacksw/handcal//NONSGML v1.0//EN
BEGIN:VEVENT
UID:ac08097046d8b37d7bd1a5af97b433f6
DTSTAMP:20260424T173743Z

DTSTART:20191122T200000
DTEND:20191122T200000
SUMMARY:Weihnachtskonzert mit dem Werner-von-Siemens-Gymnasiums
DESCRIPTION:Datum:12.12.2019
Uhrzeit:19:00 Uhr
Veranstaltungsort:Lutherkirche Bad Harzburg
Kosten:Der Eintritt ist frei.
Kontakt:Karsten Krüger
Tel. 05322/8 20 90 56
Veranstalter:Ev.-luth. Kirchengemeinde Martin Luther »
Weitere Informationen zur Veranstaltung:
Konzert mit den Chören, Instrumentalisten und Solisten des Werner-von-Siemens-Gymnasiums in Bad Harzburg.

Quelle: www.stadt-bad-harzburg.de
LOCATION:Lutherkirche, Lutherstraße, Molkenhaus, Bad Harzburg, Landkreis Goslar, Niedersachsen, 38667, Deutschland
END:VEVENT

END:VCALENDAR
